BEGIN:VCALENDAR
VERSION:2.0
PRODID:-//The European Qur’an. - ECPv6.15.11//NONSGML v1.0//EN
CALSCALE:GREGORIAN
METHOD:PUBLISH
X-WR-CALNAME:The European Qur’an.
X-ORIGINAL-URL:https://euqu.eu
X-WR-CALDESC:Events for The European Qur’an.
REFRESH-INTERVAL;VALUE=DURATION:PT1H
X-Robots-Tag:noindex
X-PUBLISHED-TTL:PT1H
BEGIN:VTIMEZONE
TZID:UTC
BEGIN:STANDARD
TZOFFSETFROM:+0000
TZOFFSETTO:+0000
TZNAME:UTC
DTSTART:20230101T000000
END:STANDARD
END:VTIMEZONE
BEGIN:VEVENT
DTSTART;VALUE=DATE:20240513
DTEND;VALUE=DATE:20240515
DTSTAMP:20260423T120958
CREATED:20240415T114057Z
LAST-MODIFIED:20240424T104646Z
UID:4383-1715558400-1715731199@euqu.eu
SUMMARY:Workshop Al crocevia di tre mondi. Il “Corano di Flavio Mitridate”
DESCRIPTION:EuQu Workshop \nAl crocevia di tre mondi. Il “Corano di Flavio Mitridate” (ms.Vat.Ebr.357\, fol.51r-156r) e lo studio dell’Islam nell’Italia del Quattrocento \n13&14 May 2024\nUniversita L’Orientale – Napoli \nThis workshop is organized by Benoît Grévin and Giuseppe Mandalà. \nRead the program
URL:https://euqu.eu/event/workshop-al-crocevia-di-tre-mondi-il-corano-di-flavio-mitridate/
END:VEVENT
BEGIN:VEVENT
DTSTART;VALUE=DATE:20240521
DTEND;VALUE=DATE:20240523
DTSTAMP:20260423T120958
CREATED:20231003T073429Z
LAST-MODIFIED:20231003T073429Z
UID:4143-1716249600-1716422399@euqu.eu
SUMMARY:Call for papers "Recited Ink: Written Representations of the Oral Aspects of the Qur’ān"
DESCRIPTION:
URL:https://euqu.eu/event/call-for-papers-recited-ink-written-representations-of-the-oral-aspects-of-the-quran/
END:VEVENT
END:VCALENDAR