BEGIN:VCALENDAR
VERSION:2.0
PRODID:-//The European Qur’an. - ECPv6.15.11//NONSGML v1.0//EN
CALSCALE:GREGORIAN
METHOD:PUBLISH
X-ORIGINAL-URL:https://euqu.eu
X-WR-CALDESC:Events for The European Qur’an.
REFRESH-INTERVAL;VALUE=DURATION:PT1H
X-Robots-Tag:noindex
X-PUBLISHED-TTL:PT1H
BEGIN:VTIMEZONE
TZID:UTC
BEGIN:STANDARD
TZOFFSETFROM:+0000
TZOFFSETTO:+0000
TZNAME:UTC
DTSTART:20230101T000000
END:STANDARD
END:VTIMEZONE
BEGIN:VEVENT
DTSTART;TZID=UTC:20240307T150000
DTEND;TZID=UTC:20240307T170000
DTSTAMP:20260425T130141
CREATED:20240226T092837Z
LAST-MODIFIED:20240226T092837Z
UID:4341-1709823600-1709830800@euqu.eu
SUMMARY:Conférence Mahomet l’Européen
DESCRIPTION:Université internationale de Rabat – Maroc\n\nJohn Tolan\, professeur émérite de Nantes Université\, PI du projet ERC “The European Qur’an” (EuQu)\, donnera une conférence à l’université internationale de Rabat le 7 mars 2024.\nMahomet l’Européen : Histoire des représentations du prophète en Occident.\nhttps://www.uir.ac.ma/\nhttps://euqu.eu2024/02/26/conference-mahomet-leuropeen/
URL:https://euqu.eu/event/conference-mahomet-leuropeen/
END:VEVENT
END:VCALENDAR