BEGIN:VCALENDAR
VERSION:2.0
PRODID:-//The European Qur’an. - ECPv6.15.11//NONSGML v1.0//EN
CALSCALE:GREGORIAN
METHOD:PUBLISH
X-WR-CALNAME:The European Qur’an.
X-ORIGINAL-URL:https://euqu.eu
X-WR-CALDESC:Events for The European Qur’an.
REFRESH-INTERVAL;VALUE=DURATION:PT1H
X-Robots-Tag:noindex
X-PUBLISHED-TTL:PT1H
BEGIN:VTIMEZONE
TZID:UTC
BEGIN:STANDARD
TZOFFSETFROM:+0000
TZOFFSETTO:+0000
TZNAME:UTC
DTSTART:20230101T000000
END:STANDARD
END:VTIMEZONE
BEGIN:VEVENT
DTSTART;VALUE=DATE:20240623
DTEND;VALUE=DATE:20240628
DTSTAMP:20260422T032127
CREATED:20230704T121033Z
LAST-MODIFIED:20230704T121033Z
UID:4091-1719100800-1719532799@euqu.eu
SUMMARY:The Materiality of Pious Texts
DESCRIPTION:36th CIHA World Congress in Lyon\nMatter Materiality | Matière Matérialité\nDates: June 23–27\, 2024 – Lyon \nPanel title:\nThe Materiality of Pious Texts: The Qur’an and Devotional Manuscripts \nPanel organisers:\nAlya Karame (Collège De France) alya.karame[a]college-de-france.fr\nUmberto Bongianino (University of Oxford) umberto.bongianino[a]ames.ox.ac.uk \nSubmission:\nPlease submit the following by 15 September 2023 via this link:\nhttps://livebyglevents.key4register.com/key4register/AbstractList.aspx?e=148 \nThe Comité Français d’Histoire de l’Art (CFHA)\, the Institut National d’Histoire de l’Art (INHA) and the Laboratoire de Recherche Historique Rhône-Alpes (LARHRA) are thrilled to invite to the 36th Congress of the Comité International d’Histoire de l’Art in Lyon in 2024 around the theme Matter Materiality. \nThe CIHA congress gathers every four years researchers from all over the world around a strong theme of the field of art history. The congress is open to advanced and junior scholars of all professional backgrounds. It offers a unique experience of sharing with the international scientific community. \nRead more
URL:https://euqu.eu/event/the-materiality-of-pious-texts/
END:VEVENT
BEGIN:VEVENT
DTSTART;VALUE=DATE:20250610
DTEND;VALUE=DATE:20250614
DTSTAMP:20260422T032127
CREATED:20240312T132503Z
LAST-MODIFIED:20240312T132503Z
UID:4350-1749513600-1749859199@euqu.eu
SUMMARY:The “Excluded Third” in the Co-Production of Judaism\, Christianity\, and Islam
DESCRIPTION:The European Project ERC Synergy Grant “The European Qur’an” (EuQu) is organizing in cooperation with its scientific partner CORE (Co-produced Religions) a conference to be held in Villa Vigoni\, Loveno di Menaggio (Como Lake\, Italy) on the 10-13 June 2025. \nRead more
URL:https://euqu.eu/event/the-excluded-third-in-the-co-production-of-judaism-christianity-and-islam/
END:VEVENT
BEGIN:VEVENT
DTSTART;TZID=UTC:20251008T000000
DTEND;TZID=UTC:20251018T000000
DTSTAMP:20260422T032127
CREATED:20251008T085747Z
LAST-MODIFIED:20251008T085950Z
UID:5334-1759881600-1760745600@euqu.eu
SUMMARY:Samarcanda\, International Conference\, Oct 2-3\, 2025
DESCRIPTION:
URL:https://euqu.eu/event/samarcanda-international-conference-oct-2-3-2025/
END:VEVENT
BEGIN:VEVENT
DTSTART;VALUE=DATE:20251027
DTEND;VALUE=DATE:20251029
DTSTAMP:20260422T032127
CREATED:20251117T095503Z
LAST-MODIFIED:20251117T095503Z
UID:5348-1761523200-1761695999@euqu.eu
SUMMARY:The European Qur'an - Final Meeting\, Granada October 2025
DESCRIPTION:
URL:https://euqu.eu/event/the-european-quran-final-meeting-granada-october-2025/
END:VEVENT
BEGIN:VEVENT
DTSTART;TZID=UTC:20251212T103000
DTEND;TZID=UTC:20251212T120000
DTSTAMP:20260422T032127
CREATED:20251204T100504Z
LAST-MODIFIED:20251208T110831Z
UID:5367-1765535400-1765540800@euqu.eu
SUMMARY:Seminar: Translating Arabic texts to Malay in Pre-modern Indonesia
DESCRIPTION:
URL:https://euqu.eu/event/seminar-translating-arabic-texts-to-malay-in-pre-modern-indonesia/
LOCATION:Palazzo del Mediterraneo\, Napoli
END:VEVENT
END:VCALENDAR