BEGIN:VCALENDAR
VERSION:2.0
PRODID:-//The European Qur’an. - ECPv6.15.11//NONSGML v1.0//EN
CALSCALE:GREGORIAN
METHOD:PUBLISH
X-WR-CALNAME:The European Qur’an.
X-ORIGINAL-URL:https://euqu.eu
X-WR-CALDESC:Events for The European Qur’an.
REFRESH-INTERVAL;VALUE=DURATION:PT1H
X-Robots-Tag:noindex
X-PUBLISHED-TTL:PT1H
BEGIN:VTIMEZONE
TZID:UTC
BEGIN:STANDARD
TZOFFSETFROM:+0000
TZOFFSETTO:+0000
TZNAME:UTC
DTSTART:20230101T000000
END:STANDARD
END:VTIMEZONE
BEGIN:VEVENT
DTSTART;VALUE=DATE:20240417
DTEND;VALUE=DATE:20240420
DTSTAMP:20260425T125354
CREATED:20231107T123711Z
LAST-MODIFIED:20231107T123711Z
UID:4213-1713312000-1713571199@euqu.eu
SUMMARY:EuQu International Workshop at UCPH - Interreligious Connectivity - Digitally Explored
DESCRIPTION:Location and date: University of Copenhagen\, 17–19. April 2024 \nOrganizers: Jacob Langeloh and Jan Loop \nDigital technologies are revolutionizing how we store\, access\, and exchange knowledge. In this workshop\, we explore how these technologies can be used to improve our understanding of historical interreligious encounters. The goals are 1) to showcase ongoing projects\, 2) to evaluate best practices\, 3) to provide an entry point to scholars who want to start using digital methods in their research\, and 4) to offer a platform to start new networks and collaborations.
URL:https://euqu.eu/event/euqu-international-workshop-at-ucph-interreligious-connectivity-digitally-explored/
END:VEVENT
END:VCALENDAR